BEGIN:VCALENDAR
VERSION:2.0
PRODID:-//PhyllaTech, LLC. - ECPv6.15.20//NONSGML v1.0//EN
CALSCALE:GREGORIAN
METHOD:PUBLISH
X-WR-CALNAME:PhyllaTech, LLC.
X-ORIGINAL-URL:https://phyllatech.com
X-WR-CALDESC:Events for PhyllaTech, LLC.
REFRESH-INTERVAL;VALUE=DURATION:PT1H
X-Robots-Tag:noindex
X-PUBLISHED-TTL:PT1H
BEGIN:VTIMEZONE
TZID:America/New_York
BEGIN:DAYLIGHT
TZOFFSETFROM:-0500
TZOFFSETTO:-0400
TZNAME:EDT
DTSTART:20250309T070000
END:DAYLIGHT
BEGIN:STANDARD
TZOFFSETFROM:-0400
TZOFFSETTO:-0500
TZNAME:EST
DTSTART:20251102T060000
END:STANDARD
BEGIN:DAYLIGHT
TZOFFSETFROM:-0500
TZOFFSETTO:-0400
TZNAME:EDT
DTSTART:20260308T070000
END:DAYLIGHT
BEGIN:STANDARD
TZOFFSETFROM:-0400
TZOFFSETTO:-0500
TZNAME:EST
DTSTART:20261101T060000
END:STANDARD
BEGIN:DAYLIGHT
TZOFFSETFROM:-0500
TZOFFSETTO:-0400
TZNAME:EDT
DTSTART:20270314T070000
END:DAYLIGHT
BEGIN:STANDARD
TZOFFSETFROM:-0400
TZOFFSETTO:-0500
TZNAME:EST
DTSTART:20271107T060000
END:STANDARD
END:VTIMEZONE
BEGIN:VEVENT
DTSTART;VALUE=DATE:20260122
DTEND;VALUE=DATE:20260124
DTSTAMP:20260423T171920
CREATED:20240930T180003Z
LAST-MODIFIED:20251219T193015Z
UID:1729-1769040000-1769212799@phyllatech.com
SUMMARY:NCNLA Green & Growin' Marketplace
DESCRIPTION:
URL:https://phyllatech.com/event/ncnla-green-growin-marketplace/
LOCATION:Greensboro Coliseum
END:VEVENT
BEGIN:VEVENT
DTSTART;VALUE=DATE:20260211
DTEND;VALUE=DATE:20260213
DTSTAMP:20260423T171920
CREATED:20240930T175408Z
LAST-MODIFIED:20251219T192853Z
UID:1722-1770768000-1770940799@phyllatech.com
SUMMARY:North American Raspberry & Blackberry Conference
DESCRIPTION:
URL:https://phyllatech.com/event/north-american-raspberry-blackberry-conference/
LOCATION:Embassy Suites – San Luis Obispo
END:VEVENT
BEGIN:VEVENT
DTSTART;VALUE=DATE:20260305
DTEND;VALUE=DATE:20260306
DTSTAMP:20260423T171920
CREATED:20251219T193315Z
LAST-MODIFIED:20251219T193315Z
UID:1852-1772668800-1772755199@phyllatech.com
SUMMARY:NC Commercial Blackberry & Raspberry Growers Association Field Day
DESCRIPTION:PhyllaTech is excited to be a sponsor for the NC Commercial Blackberry & Raspberry Growers Association 2021 Field Day at Lewis Farms in Rocky Point\, NC. Visit NC Commercial Blackberry and Raspberry Grower Association Annual Meeting Tickets\, Fri\, Sep 24\, 2021 at 9:00 AM | Eventbrite for more information and to sign up. We look forward to seeing everyone there!
URL:https://phyllatech.com/event/nc-commercial-blackberry-raspberry-growers-association-field-day-2/
END:VEVENT
END:VCALENDAR