BEGIN:VCALENDAR
VERSION:2.0
PRODID:-//PhyllaTech, LLC. - ECPv6.15.20//NONSGML v1.0//EN
CALSCALE:GREGORIAN
METHOD:PUBLISH
X-WR-CALNAME:PhyllaTech, LLC.
X-ORIGINAL-URL:https://phyllatech.com
X-WR-CALDESC:Events for PhyllaTech, LLC.
REFRESH-INTERVAL;VALUE=DURATION:PT1H
X-Robots-Tag:noindex
X-PUBLISHED-TTL:PT1H
BEGIN:VTIMEZONE
TZID:America/New_York
BEGIN:DAYLIGHT
TZOFFSETFROM:-0500
TZOFFSETTO:-0400
TZNAME:EDT
DTSTART:20200308T070000
END:DAYLIGHT
BEGIN:STANDARD
TZOFFSETFROM:-0400
TZOFFSETTO:-0500
TZNAME:EST
DTSTART:20201101T060000
END:STANDARD
BEGIN:DAYLIGHT
TZOFFSETFROM:-0500
TZOFFSETTO:-0400
TZNAME:EDT
DTSTART:20210314T070000
END:DAYLIGHT
BEGIN:STANDARD
TZOFFSETFROM:-0400
TZOFFSETTO:-0500
TZNAME:EST
DTSTART:20211107T060000
END:STANDARD
BEGIN:DAYLIGHT
TZOFFSETFROM:-0500
TZOFFSETTO:-0400
TZNAME:EDT
DTSTART:20220313T070000
END:DAYLIGHT
BEGIN:STANDARD
TZOFFSETFROM:-0400
TZOFFSETTO:-0500
TZNAME:EST
DTSTART:20221106T060000
END:STANDARD
END:VTIMEZONE
BEGIN:VEVENT
DTSTART;TZID=America/New_York:20210924T093000
DTEND;TZID=America/New_York:20210924T150000
DTSTAMP:20260423T122621
CREATED:20210715T173954Z
LAST-MODIFIED:20210715T173954Z
UID:1541-1632475800-1632495600@phyllatech.com
SUMMARY:NC Commercial Blackberry & Raspberry Growers Association Field Day
DESCRIPTION:PhyllaTech is excited to be a sponsor for the NC Commercial Blackberry & Raspberry Growers Association 2021 Field Day at Lewis Farms in Rocky Point\, NC. Visit NC Commercial Blackberry and Raspberry Grower Association Annual Meeting Tickets\, Fri\, Sep 24\, 2021 at 9:00 AM | Eventbrite for more information and to sign up. We look forward to seeing everyone there!
URL:https://phyllatech.com/event/nc-commercial-blackberry-raspberry-growers-association-field-day/
LOCATION:Lewis Nursery & Farms\, 3500 North Carolina 133\, Rocky Point\, NC\, 28457\, United States
END:VEVENT
BEGIN:VEVENT
DTSTART;VALUE=DATE:20210221
DTEND;VALUE=DATE:20210226
DTSTAMP:20260423T122621
CREATED:20201029T134337Z
LAST-MODIFIED:20210219T145239Z
UID:1363-1613865600-1614297599@phyllatech.com
SUMMARY:North American Blackberry and Raspberry Association
DESCRIPTION:Visit with us virtually at the trade show to learn more about our quality plants and services we provide!
URL:https://phyllatech.com/event/north-american-blackberry-and-raspberry-association/
LOCATION:NC
END:VEVENT
BEGIN:VEVENT
DTSTART;VALUE=DATE:20210105
DTEND;VALUE=DATE:20210108
DTSTAMP:20260423T122621
CREATED:20201029T134257Z
LAST-MODIFIED:20201103T143401Z
UID:1361-1609804800-1610063999@phyllatech.com
SUMMARY:Southeast Regional Fruit & Vegetable Conference
DESCRIPTION:Visit with us virtually at the trade show to learn more about our quality plants and services we provide!
URL:https://phyllatech.com/event/southeast-regional-fruit-vegetable-conference/
LOCATION:NC
END:VEVENT
END:VCALENDAR